BEGIN:VCALENDAR
VERSION:2.0
PRODID:-//Rhodes Park School - ECPv6.15.20//NONSGML v1.0//EN
CALSCALE:GREGORIAN
METHOD:PUBLISH
X-WR-CALNAME:Rhodes Park School
X-ORIGINAL-URL:https://rhodesparkschool.net
X-WR-CALDESC:Events for Rhodes Park School
REFRESH-INTERVAL;VALUE=DURATION:PT1H
X-Robots-Tag:noindex
X-PUBLISHED-TTL:PT1H
BEGIN:VTIMEZONE
TZID:Africa/Harare
BEGIN:STANDARD
TZOFFSETFROM:+0200
TZOFFSETTO:+0200
TZNAME:CAT
DTSTART:20250101T000000
END:STANDARD
END:VTIMEZONE
BEGIN:VEVENT
DTSTART;TZID=Africa/Harare:20260219T080000
DTEND;TZID=Africa/Harare:20260219T170000
DTSTAMP:20260424T042813
CREATED:20260115T110402Z
LAST-MODIFIED:20260115T110402Z
UID:7465-1771488000-1771520400@rhodesparkschool.net
SUMMARY:Second educational tour for Form 1  students
DESCRIPTION:
URL:https://rhodesparkschool.net/event/second-educational-tour-for-form-1-students/
END:VEVENT
END:VCALENDAR