BEGIN:VCALENDAR
VERSION:2.0
PRODID:-//Rhodes Park School - ECPv6.15.20//NONSGML v1.0//EN
CALSCALE:GREGORIAN
METHOD:PUBLISH
X-ORIGINAL-URL:https://rhodesparkschool.net
X-WR-CALDESC:Events for Rhodes Park School
REFRESH-INTERVAL;VALUE=DURATION:PT1H
X-Robots-Tag:noindex
X-PUBLISHED-TTL:PT1H
BEGIN:VTIMEZONE
TZID:Africa/Harare
BEGIN:STANDARD
TZOFFSETFROM:+0200
TZOFFSETTO:+0200
TZNAME:CAT
DTSTART:20250101T000000
END:STANDARD
END:VTIMEZONE
BEGIN:VEVENT
DTSTART;TZID=Africa/Harare:20260313T080000
DTEND;TZID=Africa/Harare:20260314T170000
DTSTAMP:20260423T215850
CREATED:20260115T121134Z
LAST-MODIFIED:20260115T121307Z
UID:7523-1773388800-1773507600@rhodesparkschool.net
SUMMARY:ISAZ U19 Soccer\, Netball & Chess Nationals at Baobab
DESCRIPTION:
URL:https://rhodesparkschool.net/event/isaz-u19-soccer-netball-chess-nationals-at-baobab/
END:VEVENT
BEGIN:VEVENT
DTSTART;TZID=Africa/Harare:20260314T080000
DTEND;TZID=Africa/Harare:20260314T170000
DTSTAMP:20260423T215850
CREATED:20260115T121317Z
LAST-MODIFIED:20260115T121317Z
UID:7525-1773475200-1773507600@rhodesparkschool.net
SUMMARY:Invitational U10 & U13 Rugby and Hockey at Martin House
DESCRIPTION:
URL:https://rhodesparkschool.net/event/invitational-u10-u13-rugby-and-hockey-at-martin-house/
END:VEVENT
END:VCALENDAR