BEGIN:VCALENDAR
VERSION:2.0
PRODID:-//Rhodes Park School - ECPv6.15.20//NONSGML v1.0//EN
CALSCALE:GREGORIAN
METHOD:PUBLISH
X-WR-CALNAME:Rhodes Park School
X-ORIGINAL-URL:https://rhodesparkschool.net
X-WR-CALDESC:Events for Rhodes Park School
REFRESH-INTERVAL;VALUE=DURATION:PT1H
X-Robots-Tag:noindex
X-PUBLISHED-TTL:PT1H
BEGIN:VTIMEZONE
TZID:Africa/Harare
BEGIN:STANDARD
TZOFFSETFROM:+0200
TZOFFSETTO:+0200
TZNAME:CAT
DTSTART:20250101T000000
END:STANDARD
END:VTIMEZONE
BEGIN:VEVENT
DTSTART;TZID=Africa/Harare:20260317T080000
DTEND;TZID=Africa/Harare:20260317T170000
DTSTAMP:20260423T232212
CREATED:20260115T121556Z
LAST-MODIFIED:20260115T121556Z
UID:7529-1773734400-1773766800@rhodesparkschool.net
SUMMARY:First Educational Tour for Grade 11 students
DESCRIPTION:
URL:https://rhodesparkschool.net/event/first-educational-tour-for-grade-11-students-6/
END:VEVENT
BEGIN:VEVENT
DTSTART;TZID=Africa/Harare:20260317T080000
DTEND;TZID=Africa/Harare:20260317T170000
DTSTAMP:20260423T232212
CREATED:20260115T121620Z
LAST-MODIFIED:20260115T121620Z
UID:7530-1773734400-1773766800@rhodesparkschool.net
SUMMARY:Secondary Educational Tour for Grade 11 students
DESCRIPTION:
URL:https://rhodesparkschool.net/event/secondary-educational-tour-for-grade-11-students/
END:VEVENT
BEGIN:VEVENT
DTSTART;TZID=Africa/Harare:20260317T080000
DTEND;TZID=Africa/Harare:20260317T170000
DTSTAMP:20260423T232212
CREATED:20260115T121642Z
LAST-MODIFIED:20260115T121642Z
UID:7533-1773734400-1773766800@rhodesparkschool.net
SUMMARY:Big Sports Day (Lower Primary) Inter - House Football and Netball
DESCRIPTION:
URL:https://rhodesparkschool.net/event/big-sports-day-lower-primary-inter-house-football-and-netball/
END:VEVENT
END:VCALENDAR