BEGIN:VCALENDAR
VERSION:2.0
PRODID:-//Rhodes Park School - ECPv6.15.20//NONSGML v1.0//EN
CALSCALE:GREGORIAN
METHOD:PUBLISH
X-ORIGINAL-URL:https://rhodesparkschool.net
X-WR-CALDESC:Events for Rhodes Park School
REFRESH-INTERVAL;VALUE=DURATION:PT1H
X-Robots-Tag:noindex
X-PUBLISHED-TTL:PT1H
BEGIN:VTIMEZONE
TZID:Africa/Harare
BEGIN:STANDARD
TZOFFSETFROM:+0200
TZOFFSETTO:+0200
TZNAME:CAT
DTSTART:20250101T000000
END:STANDARD
END:VTIMEZONE
BEGIN:VEVENT
DTSTART;TZID=Africa/Harare:20260319T080000
DTEND;TZID=Africa/Harare:20260319T170000
DTSTAMP:20260423T232554
CREATED:20260115T122634Z
LAST-MODIFIED:20260115T122634Z
UID:7543-1773907200-1773939600@rhodesparkschool.net
SUMMARY:First Educational Tour for Grade 12 students
DESCRIPTION:
URL:https://rhodesparkschool.net/event/first-educational-tour-for-grade-12-students-8/
END:VEVENT
END:VCALENDAR