BEGIN:VCALENDAR
VERSION:2.0
PRODID:-//Rhodes Park School - ECPv6.15.20//NONSGML v1.0//EN
CALSCALE:GREGORIAN
METHOD:PUBLISH
X-WR-CALNAME:Rhodes Park School
X-ORIGINAL-URL:https://rhodesparkschool.net
X-WR-CALDESC:Events for Rhodes Park School
REFRESH-INTERVAL;VALUE=DURATION:PT1H
X-Robots-Tag:noindex
X-PUBLISHED-TTL:PT1H
BEGIN:VTIMEZONE
TZID:Africa/Harare
BEGIN:STANDARD
TZOFFSETFROM:+0200
TZOFFSETTO:+0200
TZNAME:CAT
DTSTART:20250101T000000
END:STANDARD
END:VTIMEZONE
BEGIN:VEVENT
DTSTART;TZID=Africa/Harare:20260320T080000
DTEND;TZID=Africa/Harare:20260320T170000
DTSTAMP:20260423T215715
CREATED:20260115T122652Z
LAST-MODIFIED:20260115T122652Z
UID:7545-1773993600-1774026000@rhodesparkschool.net
SUMMARY:Second Educational Tour for Grade 12 students
DESCRIPTION:
URL:https://rhodesparkschool.net/event/second-educational-tour-for-grade-12-students-5/
END:VEVENT
BEGIN:VEVENT
DTSTART;TZID=Africa/Harare:20260320T080000
DTEND;TZID=Africa/Harare:20260320T170000
DTSTAMP:20260423T215715
CREATED:20260115T122808Z
LAST-MODIFIED:20260115T122808Z
UID:7547-1773993600-1774026000@rhodesparkschool.net
SUMMARY:Second Educational Tour for Grade 12 students
DESCRIPTION:
URL:https://rhodesparkschool.net/event/second-educational-tour-for-grade-12-students-6/
END:VEVENT
BEGIN:VEVENT
DTSTART;TZID=Africa/Harare:20260320T080000
DTEND;TZID=Africa/Harare:20260320T170000
DTSTAMP:20260423T215715
CREATED:20260115T122904Z
LAST-MODIFIED:20260115T122904Z
UID:7550-1773993600-1774026000@rhodesparkschool.net
SUMMARY:End of Extra-Curricular Activities
DESCRIPTION:
URL:https://rhodesparkschool.net/event/end-of-extra-curricular-activities-14/
END:VEVENT
BEGIN:VEVENT
DTSTART;TZID=Africa/Harare:20260320T080000
DTEND;TZID=Africa/Harare:20260320T170000
DTSTAMP:20260423T215715
CREATED:20260115T122930Z
LAST-MODIFIED:20260115T122930Z
UID:7549-1773993600-1774026000@rhodesparkschool.net
SUMMARY:ISAZ U13 Boys and Girls Tennis at American International School of Lusaka (AISL)
DESCRIPTION:
URL:https://rhodesparkschool.net/event/isaz-u13-boys-and-girls-tennis-at-american-international-school-of-lusaka-aisl/
END:VEVENT
END:VCALENDAR