BEGIN:VCALENDAR
VERSION:2.0
PRODID:-//Rhodes Park School - ECPv6.15.20//NONSGML v1.0//EN
CALSCALE:GREGORIAN
METHOD:PUBLISH
X-ORIGINAL-URL:https://rhodesparkschool.net
X-WR-CALDESC:Events for Rhodes Park School
REFRESH-INTERVAL;VALUE=DURATION:PT1H
X-Robots-Tag:noindex
X-PUBLISHED-TTL:PT1H
BEGIN:VTIMEZONE
TZID:Africa/Harare
BEGIN:STANDARD
TZOFFSETFROM:+0200
TZOFFSETTO:+0200
TZNAME:CAT
DTSTART:20250101T000000
END:STANDARD
END:VTIMEZONE
BEGIN:VEVENT
DTSTART;TZID=Africa/Harare:20260321T080000
DTEND;TZID=Africa/Harare:20260321T170000
DTSTAMP:20260423T232538
CREATED:20260115T122956Z
LAST-MODIFIED:20260115T122956Z
UID:7553-1774080000-1774112400@rhodesparkschool.net
SUMMARY:ISAZ U19 Boys and Girls Tennis at American International School of Lusaka (AISL)
DESCRIPTION:
URL:https://rhodesparkschool.net/event/isaz-u19-boys-and-girls-tennis-at-american-international-school-of-lusaka-aisl/
END:VEVENT
BEGIN:VEVENT
DTSTART;TZID=Africa/Harare:20260321T080000
DTEND;TZID=Africa/Harare:20260321T170000
DTSTAMP:20260423T232538
CREATED:20260115T123100Z
LAST-MODIFIED:20260115T123100Z
UID:7555-1774080000-1774112400@rhodesparkschool.net
SUMMARY:ISAZ U13 Soccer Boys and Girls B at Rhodes Park School
DESCRIPTION:
URL:https://rhodesparkschool.net/event/isaz-u13-soccer-boys-and-girls-b-at-rhodes-park-school/
END:VEVENT
BEGIN:VEVENT
DTSTART;TZID=Africa/Harare:20260321T080000
DTEND;TZID=Africa/Harare:20260321T170000
DTSTAMP:20260423T232538
CREATED:20260115T123133Z
LAST-MODIFIED:20260115T123133Z
UID:7556-1774080000-1774112400@rhodesparkschool.net
SUMMARY:ISAZ U13 Soccer Boys and Girls A at International School of Lusaka (ISL)
DESCRIPTION:
URL:https://rhodesparkschool.net/event/isaz-u13-soccer-boys-and-girls-a-at-international-school-of-lusaka-isl/
END:VEVENT
BEGIN:VEVENT
DTSTART;TZID=Africa/Harare:20260321T080000
DTEND;TZID=Africa/Harare:20260321T170000
DTSTAMP:20260423T232538
CREATED:20260115T123215Z
LAST-MODIFIED:20260115T123215Z
UID:7559-1774080000-1774112400@rhodesparkschool.net
SUMMARY:ISAZ U16 Regional Netball A at Baobab College
DESCRIPTION:
URL:https://rhodesparkschool.net/event/isaz-u16-regional-netball-a-at-baobab-college/
END:VEVENT
BEGIN:VEVENT
DTSTART;TZID=Africa/Harare:20260321T080000
DTEND;TZID=Africa/Harare:20260321T170000
DTSTAMP:20260423T232538
CREATED:20260115T123244Z
LAST-MODIFIED:20260115T123244Z
UID:7561-1774080000-1774112400@rhodesparkschool.net
SUMMARY:ISAZ U16 Regional Netball B at Lusaka International Community School (LICS)
DESCRIPTION:
URL:https://rhodesparkschool.net/event/isaz-u16-regional-netball-b-at-lusaka-international-community-school-lics/
END:VEVENT
END:VCALENDAR