BEGIN:VCALENDAR
VERSION:2.0
PRODID:-//Rhodes Park School - ECPv6.15.20//NONSGML v1.0//EN
CALSCALE:GREGORIAN
METHOD:PUBLISH
X-ORIGINAL-URL:https://rhodesparkschool.net
X-WR-CALDESC:Events for Rhodes Park School
REFRESH-INTERVAL;VALUE=DURATION:PT1H
X-Robots-Tag:noindex
X-PUBLISHED-TTL:PT1H
BEGIN:VTIMEZONE
TZID:Africa/Harare
BEGIN:STANDARD
TZOFFSETFROM:+0200
TZOFFSETTO:+0200
TZNAME:CAT
DTSTART:20250101T000000
END:STANDARD
END:VTIMEZONE
BEGIN:VEVENT
DTSTART;TZID=Africa/Harare:20260323T080000
DTEND;TZID=Africa/Harare:20260323T170000
DTSTAMP:20260423T232553
CREATED:20260115T123346Z
LAST-MODIFIED:20260115T123346Z
UID:7563-1774252800-1774285200@rhodesparkschool.net
SUMMARY:Start of  Grade 12 End-of-Term Examinations
DESCRIPTION:
URL:https://rhodesparkschool.net/event/start-of-grade-12-end-of-term-examinations/
END:VEVENT
BEGIN:VEVENT
DTSTART;TZID=Africa/Harare:20260323T080000
DTEND;TZID=Africa/Harare:20260323T170000
DTSTAMP:20260423T232553
CREATED:20260115T123417Z
LAST-MODIFIED:20260115T123417Z
UID:7565-1774252800-1774285200@rhodesparkschool.net
SUMMARY:Start of Continuous Assessment for Non-Examination classes
DESCRIPTION:
URL:https://rhodesparkschool.net/event/start-of-continuous-assessment-for-non-examination-classes/
END:VEVENT
END:VCALENDAR