BEGIN:VCALENDAR
VERSION:2.0
PRODID:-//Rhodes Park School - ECPv6.15.20//NONSGML v1.0//EN
CALSCALE:GREGORIAN
METHOD:PUBLISH
X-ORIGINAL-URL:https://rhodesparkschool.net
X-WR-CALDESC:Events for Rhodes Park School
REFRESH-INTERVAL;VALUE=DURATION:PT1H
X-Robots-Tag:noindex
X-PUBLISHED-TTL:PT1H
BEGIN:VTIMEZONE
TZID:Africa/Harare
BEGIN:STANDARD
TZOFFSETFROM:+0200
TZOFFSETTO:+0200
TZNAME:CAT
DTSTART:20250101T000000
END:STANDARD
END:VTIMEZONE
BEGIN:VEVENT
DTSTART;TZID=Africa/Harare:20260402T070000
DTEND;TZID=Africa/Harare:20260402T160000
DTSTAMP:20260423T202804
CREATED:20260115T124004Z
LAST-MODIFIED:20260115T124004Z
UID:7580-1775113200-1775145600@rhodesparkschool.net
SUMMARY:School Concert at Government Complex Theatre
DESCRIPTION:
URL:https://rhodesparkschool.net/event/school-concert-at-government-complex-theatre-3/
END:VEVENT
BEGIN:VEVENT
DTSTART;TZID=Africa/Harare:20260402T070000
DTEND;TZID=Africa/Harare:20260402T160000
DTSTAMP:20260423T202804
CREATED:20260115T124020Z
LAST-MODIFIED:20260115T124020Z
UID:7578-1775113200-1775145600@rhodesparkschool.net
SUMMARY:ISAZ U13 & U19 Golf at Trident Prep/ Bonanza
DESCRIPTION:
URL:https://rhodesparkschool.net/event/isaz-u13-u19-golf-at-trident-prep-bonanza/
END:VEVENT
END:VCALENDAR