BEGIN:VCALENDAR
VERSION:2.0
PRODID:-//Rhodes Park School - ECPv6.15.20//NONSGML v1.0//EN
CALSCALE:GREGORIAN
METHOD:PUBLISH
X-WR-CALNAME:Rhodes Park School
X-ORIGINAL-URL:https://rhodesparkschool.net
X-WR-CALDESC:Events for Rhodes Park School
REFRESH-INTERVAL;VALUE=DURATION:PT1H
X-Robots-Tag:noindex
X-PUBLISHED-TTL:PT1H
BEGIN:VTIMEZONE
TZID:Africa/Harare
BEGIN:STANDARD
TZOFFSETFROM:+0200
TZOFFSETTO:+0200
TZNAME:CAT
DTSTART:20250101T000000
END:STANDARD
END:VTIMEZONE
BEGIN:VEVENT
DTSTART;TZID=Africa/Harare:20260227T080000
DTEND;TZID=Africa/Harare:20260227T170000
DTSTAMP:20260425T160609
CREATED:20260115T111425Z
LAST-MODIFIED:20260115T111425Z
UID:7489-1772179200-1772211600@rhodesparkschool.net
SUMMARY:ISAZ U19 Boys Soccer Regional Pools at Baobab College
DESCRIPTION:
URL:https://rhodesparkschool.net/event/isaz-u19-boys-soccer-regional-pools-at-baobab-college/
END:VEVENT
BEGIN:VEVENT
DTSTART;TZID=Africa/Harare:20260226T080000
DTEND;TZID=Africa/Harare:20260226T170000
DTSTAMP:20260425T160609
CREATED:20260115T111351Z
LAST-MODIFIED:20260115T111351Z
UID:7485-1772092800-1772125200@rhodesparkschool.net
SUMMARY:PTA Civilian Day
DESCRIPTION:
URL:https://rhodesparkschool.net/event/pta-civilian-day-15/
END:VEVENT
BEGIN:VEVENT
DTSTART;TZID=Africa/Harare:20260224T080000
DTEND;TZID=Africa/Harare:20260224T170000
DTSTAMP:20260425T160609
CREATED:20260115T111323Z
LAST-MODIFIED:20260115T111323Z
UID:7481-1771920000-1771952400@rhodesparkschool.net
SUMMARY:Educational Tour for Grade 2 students
DESCRIPTION:
URL:https://rhodesparkschool.net/event/educational-tour-for-grade-2-students-4/
END:VEVENT
BEGIN:VEVENT
DTSTART;TZID=Africa/Harare:20260223T080000
DTEND;TZID=Africa/Harare:20260227T170000
DTSTAMP:20260425T160609
CREATED:20260115T111310Z
LAST-MODIFIED:20260115T111310Z
UID:7482-1771833600-1772211600@rhodesparkschool.net
SUMMARY:School Science Week and Quizzes
DESCRIPTION:
URL:https://rhodesparkschool.net/event/school-science-week-and-quizzes-3/
END:VEVENT
BEGIN:VEVENT
DTSTART;TZID=Africa/Harare:20260221T080000
DTEND;TZID=Africa/Harare:20260221T170000
DTSTAMP:20260425T160609
CREATED:20260115T110745Z
LAST-MODIFIED:20260115T110745Z
UID:7479-1771660800-1771693200@rhodesparkschool.net
SUMMARY:PTA AGM at Mulungushi International Conference Centre
DESCRIPTION:
URL:https://rhodesparkschool.net/event/pta-agm-at-mulungushi-international-conference-centre/
END:VEVENT
BEGIN:VEVENT
DTSTART;TZID=Africa/Harare:20260221T080000
DTEND;TZID=Africa/Harare:20260221T170000
DTSTAMP:20260425T160609
CREATED:20260115T110716Z
LAST-MODIFIED:20260115T110716Z
UID:7477-1771660800-1771693200@rhodesparkschool.net
SUMMARY:ISAZ U19 Netball Qualifiers at Lusaka International Community School (LICS)
DESCRIPTION:
URL:https://rhodesparkschool.net/event/isaz-u19-netball-qualifiers-at-lusaka-international-community-school-lics/
END:VEVENT
BEGIN:VEVENT
DTSTART;TZID=Africa/Harare:20260221T080000
DTEND;TZID=Africa/Harare:20260221T170000
DTSTAMP:20260425T160609
CREATED:20260115T110656Z
LAST-MODIFIED:20260115T110656Z
UID:7473-1771660800-1771693200@rhodesparkschool.net
SUMMARY:ISAZ U19 Football Pre -qualifiers at TBA
DESCRIPTION:
URL:https://rhodesparkschool.net/event/isaz-u19-football-pre-qualifiers-at-tba/
END:VEVENT
BEGIN:VEVENT
DTSTART;TZID=Africa/Harare:20260221T080000
DTEND;TZID=Africa/Harare:20260221T170000
DTSTAMP:20260425T160609
CREATED:20260115T110636Z
LAST-MODIFIED:20260115T110636Z
UID:7474-1771660800-1771693200@rhodesparkschool.net
SUMMARY:ISAZ U13 & 19 Chess Championship at Rhodes Park School
DESCRIPTION:
URL:https://rhodesparkschool.net/event/isaz-u13-19-chess-championship-at-rhodes-park-school-3/
END:VEVENT
BEGIN:VEVENT
DTSTART;TZID=Africa/Harare:20260220T080000
DTEND;TZID=Africa/Harare:20260220T170000
DTSTAMP:20260425T160609
CREATED:20260115T110610Z
LAST-MODIFIED:20260115T110610Z
UID:7469-1771574400-1771606800@rhodesparkschool.net
SUMMARY:ISAZ U11 Soccer Girls and Boys B at Maarif International
DESCRIPTION:
URL:https://rhodesparkschool.net/event/isaz-u11-soccer-girls-and-boys-b-at-maarif-international/
END:VEVENT
BEGIN:VEVENT
DTSTART;TZID=Africa/Harare:20260220T080000
DTEND;TZID=Africa/Harare:20260220T170000
DTSTAMP:20260425T160609
CREATED:20260115T110548Z
LAST-MODIFIED:20260115T110548Z
UID:7470-1771574400-1771606800@rhodesparkschool.net
SUMMARY:ISAZ U11 Soccer Girls and Boys A at Italian School
DESCRIPTION:
URL:https://rhodesparkschool.net/event/isaz-u11-soccer-girls-and-boys-a-at-italian-school/
END:VEVENT
BEGIN:VEVENT
DTSTART;TZID=Africa/Harare:20260220T080000
DTEND;TZID=Africa/Harare:20260220T170000
DTSTAMP:20260425T160609
CREATED:20260115T110417Z
LAST-MODIFIED:20260115T110417Z
UID:7464-1771574400-1771606800@rhodesparkschool.net
SUMMARY:Parent Teacher Consultations
DESCRIPTION:
URL:https://rhodesparkschool.net/event/parent-teacher-consultations-2/
END:VEVENT
BEGIN:VEVENT
DTSTART;TZID=Africa/Harare:20260219T080000
DTEND;TZID=Africa/Harare:20260219T170000
DTSTAMP:20260425T160609
CREATED:20260115T110402Z
LAST-MODIFIED:20260115T110402Z
UID:7465-1771488000-1771520400@rhodesparkschool.net
SUMMARY:Second educational tour for Form 1  students
DESCRIPTION:
URL:https://rhodesparkschool.net/event/second-educational-tour-for-form-1-students/
END:VEVENT
BEGIN:VEVENT
DTSTART;TZID=Africa/Harare:20260218T080000
DTEND;TZID=Africa/Harare:20260218T170000
DTSTAMP:20260425T160609
CREATED:20260115T104351Z
LAST-MODIFIED:20260115T104351Z
UID:7460-1771401600-1771434000@rhodesparkschool.net
SUMMARY:First educational tour for Form 1 students
DESCRIPTION:
URL:https://rhodesparkschool.net/event/first-educational-tour-for-form-1-students/
END:VEVENT
BEGIN:VEVENT
DTSTART;TZID=Africa/Harare:20260218T080000
DTEND;TZID=Africa/Harare:20260218T170000
DTSTAMP:20260425T160609
CREATED:20260115T104339Z
LAST-MODIFIED:20260115T104339Z
UID:7461-1771401600-1771434000@rhodesparkschool.net
SUMMARY:Inter -House Debate
DESCRIPTION:
URL:https://rhodesparkschool.net/event/inter-house-debate-2/
END:VEVENT
BEGIN:VEVENT
DTSTART;TZID=Africa/Harare:20260217T080000
DTEND;TZID=Africa/Harare:20260217T170000
DTSTAMP:20260425T160609
CREATED:20260115T104314Z
LAST-MODIFIED:20260115T104314Z
UID:7455-1771315200-1771347600@rhodesparkschool.net
SUMMARY:Second educational tour for Grade 5  students
DESCRIPTION:
URL:https://rhodesparkschool.net/event/second-educational-tour-for-grade-5-students-5/
END:VEVENT
BEGIN:VEVENT
DTSTART;TZID=Africa/Harare:20260216T080000
DTEND;TZID=Africa/Harare:20260216T170000
DTSTAMP:20260425T160609
CREATED:20260115T104213Z
LAST-MODIFIED:20260115T104213Z
UID:7457-1771228800-1771261200@rhodesparkschool.net
SUMMARY:First educational tour for Grade 5  students
DESCRIPTION:
URL:https://rhodesparkschool.net/event/first-educational-tour-for-grade-5-students-5/
END:VEVENT
BEGIN:VEVENT
DTSTART;TZID=Africa/Harare:20260214T080000
DTEND;TZID=Africa/Harare:20260214T170000
DTSTAMP:20260425T160609
CREATED:20260115T095223Z
LAST-MODIFIED:20260115T095223Z
UID:7450-1771056000-1771088400@rhodesparkschool.net
SUMMARY:ISAZ U14 Boys Soccer Playoffs at Baobab College
DESCRIPTION:
URL:https://rhodesparkschool.net/event/isaz-u14-boys-soccer-playoffs-at-baobab-college/
END:VEVENT
BEGIN:VEVENT
DTSTART;TZID=Africa/Harare:20260213T080000
DTEND;TZID=Africa/Harare:20260213T170000
DTSTAMP:20260425T160609
CREATED:20260115T095056Z
LAST-MODIFIED:20260115T095056Z
UID:7448-1770969600-1771002000@rhodesparkschool.net
SUMMARY:ISAZ U14 Boys Soccer Pools at Baobab College
DESCRIPTION:
URL:https://rhodesparkschool.net/event/isaz-u14-boys-soccer-pools-at-baobab-college/
END:VEVENT
BEGIN:VEVENT
DTSTART;TZID=Africa/Harare:20260213T080000
DTEND;TZID=Africa/Harare:20260213T170000
DTSTAMP:20260425T160609
CREATED:20260115T095013Z
LAST-MODIFIED:20260115T095013Z
UID:7446-1770969600-1771002000@rhodesparkschool.net
SUMMARY:Big Sports Day (Primary) – Inter-House Cross Country
DESCRIPTION:
URL:https://rhodesparkschool.net/event/big-sports-day-primary-inter-house-cross-country-4/
END:VEVENT
BEGIN:VEVENT
DTSTART;TZID=Africa/Harare:20260212T080000
DTEND;TZID=Africa/Harare:20260212T170000
DTSTAMP:20260425T160609
CREATED:20260115T094950Z
LAST-MODIFIED:20260115T094950Z
UID:7444-1770883200-1770915600@rhodesparkschool.net
SUMMARY:Second educational tour for Grade 7 students
DESCRIPTION:
URL:https://rhodesparkschool.net/event/second-educational-tour-for-grade-7-students-3/
END:VEVENT
BEGIN:VEVENT
DTSTART;TZID=Africa/Harare:20260211T080000
DTEND;TZID=Africa/Harare:20260211T170000
DTSTAMP:20260425T160609
CREATED:20260115T094924Z
LAST-MODIFIED:20260115T094924Z
UID:7440-1770796800-1770829200@rhodesparkschool.net
SUMMARY:First educational tour for Grade 7
DESCRIPTION:
URL:https://rhodesparkschool.net/event/first-educational-tour-for-grade-7/
END:VEVENT
BEGIN:VEVENT
DTSTART;TZID=Africa/Harare:20260211T080000
DTEND;TZID=Africa/Harare:20260211T170000
DTSTAMP:20260425T160609
CREATED:20260115T094909Z
LAST-MODIFIED:20260115T094909Z
UID:7441-1770796800-1770829200@rhodesparkschool.net
SUMMARY:Students' Big Sports Day (Secondary) – Inter-House Cross Country
DESCRIPTION:
URL:https://rhodesparkschool.net/event/students-big-sports-day-secondary-inter-house-cross-country/
END:VEVENT
BEGIN:VEVENT
DTSTART;TZID=Africa/Harare:20260207T080000
DTEND;TZID=Africa/Harare:20260207T170000
DTSTAMP:20260425T160609
CREATED:20260115T094827Z
LAST-MODIFIED:20260115T094827Z
UID:7436-1770451200-1770483600@rhodesparkschool.net
SUMMARY:ISAZ U14 Netball at International School of Lusaka
DESCRIPTION:
URL:https://rhodesparkschool.net/event/isaz-u14-netball-at-international-school-of-lusaka/
END:VEVENT
BEGIN:VEVENT
DTSTART;TZID=Africa/Harare:20260206T080000
DTEND;TZID=Africa/Harare:20260206T170000
DTSTAMP:20260425T160609
CREATED:20260115T094841Z
LAST-MODIFIED:20260115T094841Z
UID:7437-1770364800-1770397200@rhodesparkschool.net
SUMMARY:End of Continuous Assessment 1
DESCRIPTION:
URL:https://rhodesparkschool.net/event/end-of-continuous-assessment-1/
END:VEVENT
BEGIN:VEVENT
DTSTART;TZID=Africa/Harare:20260205T080000
DTEND;TZID=Africa/Harare:20260205T170000
DTSTAMP:20260425T160609
CREATED:20260115T094740Z
LAST-MODIFIED:20260115T094740Z
UID:7432-1770278400-1770310800@rhodesparkschool.net
SUMMARY:Prefects Leadership Skills Camp – Lotri Bay
DESCRIPTION:
URL:https://rhodesparkschool.net/event/prefects-leadership-skills-camp-lotri-bay/
END:VEVENT
BEGIN:VEVENT
DTSTART;TZID=Africa/Harare:20260203T080000
DTEND;TZID=Africa/Harare:20260203T170000
DTSTAMP:20260425T160609
CREATED:20260115T094723Z
LAST-MODIFIED:20260115T094723Z
UID:7433-1770105600-1770138000@rhodesparkschool.net
SUMMARY:Second Educational Tour for Grade 1 students
DESCRIPTION:
URL:https://rhodesparkschool.net/event/second-educational-tour-for-grade-1-students-5/
END:VEVENT
BEGIN:VEVENT
DTSTART;TZID=Africa/Harare:20260202T080000
DTEND;TZID=Africa/Harare:20260206T170000
DTSTAMP:20260425T160609
CREATED:20260115T094628Z
LAST-MODIFIED:20260115T094650Z
UID:7428-1770019200-1770397200@rhodesparkschool.net
SUMMARY:Continuous Assessment 1
DESCRIPTION:
URL:https://rhodesparkschool.net/event/continuous-assessment-1-7/
END:VEVENT
BEGIN:VEVENT
DTSTART;TZID=Africa/Harare:20260202T080000
DTEND;TZID=Africa/Harare:20260202T170000
DTSTAMP:20260425T160609
CREATED:20260115T094614Z
LAST-MODIFIED:20260115T094614Z
UID:7429-1770019200-1770051600@rhodesparkschool.net
SUMMARY:First Educational Tour for Grade 1 students
DESCRIPTION:
URL:https://rhodesparkschool.net/event/first-educational-tour-for-grade-1-students-4/
END:VEVENT
BEGIN:VEVENT
DTSTART;TZID=Africa/Harare:20260130T080000
DTEND;TZID=Africa/Harare:20260130T170000
DTSTAMP:20260425T160609
CREATED:20260115T094256Z
LAST-MODIFIED:20260115T094256Z
UID:7426-1769760000-1769792400@rhodesparkschool.net
SUMMARY:Invitational Senior Cross Country (U14\, U16 & U19) at Martin House
DESCRIPTION:
URL:https://rhodesparkschool.net/event/invitational-senior-cross-country-u14-u16-u19-at-martin-house/
END:VEVENT
BEGIN:VEVENT
DTSTART;TZID=Africa/Harare:20260129T080000
DTEND;TZID=Africa/Harare:20260129T170000
DTSTAMP:20260425T160609
CREATED:20260115T094240Z
LAST-MODIFIED:20260115T094240Z
UID:7424-1769673600-1769706000@rhodesparkschool.net
SUMMARY:Educational Tour for Reception 2 & 3 students
DESCRIPTION:
URL:https://rhodesparkschool.net/event/educational-tour-for-reception-2-3-students/
END:VEVENT
END:VCALENDAR