BEGIN:VCALENDAR
VERSION:2.0
PRODID:-//Rhodes Park School - ECPv6.15.20//NONSGML v1.0//EN
CALSCALE:GREGORIAN
METHOD:PUBLISH
X-WR-CALNAME:Rhodes Park School
X-ORIGINAL-URL:https://rhodesparkschool.net
X-WR-CALDESC:Events for Rhodes Park School
REFRESH-INTERVAL;VALUE=DURATION:PT1H
X-Robots-Tag:noindex
X-PUBLISHED-TTL:PT1H
BEGIN:VTIMEZONE
TZID:Africa/Harare
BEGIN:STANDARD
TZOFFSETFROM:+0200
TZOFFSETTO:+0200
TZNAME:CAT
DTSTART:20250101T000000
END:STANDARD
END:VTIMEZONE
BEGIN:VEVENT
DTSTART;TZID=Africa/Harare:20260414T070000
DTEND;TZID=Africa/Harare:20260414T160000
DTSTAMP:20260423T232913
CREATED:20260115T124521Z
LAST-MODIFIED:20260115T124521Z
UID:7599-1776150000-1776182400@rhodesparkschool.net
SUMMARY:Grade 7 students close for Term 1
DESCRIPTION:
URL:https://rhodesparkschool.net/event/grade-7-students-close-for-term-1/
END:VEVENT
BEGIN:VEVENT
DTSTART;TZID=Africa/Harare:20260412T070000
DTEND;TZID=Africa/Harare:20260420T160000
DTSTAMP:20260423T232913
CREATED:20260115T124449Z
LAST-MODIFIED:20260115T124449Z
UID:7597-1775977200-1776700800@rhodesparkschool.net
SUMMARY:Grade 9 Field Trip to South Africa
DESCRIPTION:
URL:https://rhodesparkschool.net/event/grade-9-field-trip-to-south-africa-3/
END:VEVENT
BEGIN:VEVENT
DTSTART;TZID=Africa/Harare:20260410T070000
DTEND;TZID=Africa/Harare:20260410T160000
DTSTAMP:20260423T232913
CREATED:20260115T124345Z
LAST-MODIFIED:20260115T124345Z
UID:7595-1775804400-1775836800@rhodesparkschool.net
SUMMARY:Parent Teacher Consultations for Non-Examination Classes
DESCRIPTION:
URL:https://rhodesparkschool.net/event/parent-teacher-consultations-for-non-examination-classes-4/
END:VEVENT
BEGIN:VEVENT
DTSTART;TZID=Africa/Harare:20260409T070000
DTEND;TZID=Africa/Harare:20260409T160000
DTSTAMP:20260423T232913
CREATED:20260115T124312Z
LAST-MODIFIED:20260115T124312Z
UID:7593-1775718000-1775750400@rhodesparkschool.net
SUMMARY:Students close for the April Vacation
DESCRIPTION:
URL:https://rhodesparkschool.net/event/students-close-for-the-april-vacation/
END:VEVENT
BEGIN:VEVENT
DTSTART;TZID=Africa/Harare:20260408T070000
DTEND;TZID=Africa/Harare:20260408T160000
DTSTAMP:20260423T232913
CREATED:20260115T124233Z
LAST-MODIFIED:20260115T124233Z
UID:7591-1775631600-1775664000@rhodesparkschool.net
SUMMARY:End of Term 1 Examinations for Grade 7 and 12 students
DESCRIPTION:
URL:https://rhodesparkschool.net/event/end-of-term-1-examinations-for-grade-7-and-12-students/
END:VEVENT
BEGIN:VEVENT
DTSTART;TZID=Africa/Harare:20260406T070000
DTEND;TZID=Africa/Harare:20260406T160000
DTSTAMP:20260423T232913
CREATED:20260115T124200Z
LAST-MODIFIED:20260115T124200Z
UID:7589-1775458800-1775491200@rhodesparkschool.net
SUMMARY:Public Holiday – Easter Monday
DESCRIPTION:
URL:https://rhodesparkschool.net/event/public-holiday-easter-monday-6/
END:VEVENT
BEGIN:VEVENT
DTSTART;VALUE=DATE:20260404
DTEND;VALUE=DATE:20260406
DTSTAMP:20260423T232913
CREATED:20260115T124142Z
LAST-MODIFIED:20260115T124142Z
UID:7587-1775343600-1775429999@rhodesparkschool.net
SUMMARY:Easter Sunday
DESCRIPTION:
URL:https://rhodesparkschool.net/event/easter-sunday-4/
END:VEVENT
BEGIN:VEVENT
DTSTART;TZID=Africa/Harare:20260404T070000
DTEND;TZID=Africa/Harare:20260404T160000
DTSTAMP:20260423T232913
CREATED:20260115T124119Z
LAST-MODIFIED:20260115T124119Z
UID:7585-1775286000-1775318400@rhodesparkschool.net
SUMMARY:Holy Saturday
DESCRIPTION:
URL:https://rhodesparkschool.net/event/holy-saturday-3/
END:VEVENT
BEGIN:VEVENT
DTSTART;TZID=Africa/Harare:20260403T070000
DTEND;TZID=Africa/Harare:20260403T160000
DTSTAMP:20260423T232913
CREATED:20260115T124045Z
LAST-MODIFIED:20260115T124045Z
UID:7583-1775199600-1775232000@rhodesparkschool.net
SUMMARY:Public Holiday – Good Friday
DESCRIPTION:
URL:https://rhodesparkschool.net/event/public-holiday-good-friday-6/
END:VEVENT
BEGIN:VEVENT
DTSTART;TZID=Africa/Harare:20260402T070000
DTEND;TZID=Africa/Harare:20260402T160000
DTSTAMP:20260423T232913
CREATED:20260115T124020Z
LAST-MODIFIED:20260115T124020Z
UID:7578-1775113200-1775145600@rhodesparkschool.net
SUMMARY:ISAZ U13 & U19 Golf at Trident Prep/ Bonanza
DESCRIPTION:
URL:https://rhodesparkschool.net/event/isaz-u13-u19-golf-at-trident-prep-bonanza/
END:VEVENT
BEGIN:VEVENT
DTSTART;TZID=Africa/Harare:20260402T070000
DTEND;TZID=Africa/Harare:20260402T160000
DTSTAMP:20260423T232913
CREATED:20260115T124004Z
LAST-MODIFIED:20260115T124004Z
UID:7580-1775113200-1775145600@rhodesparkschool.net
SUMMARY:School Concert at Government Complex Theatre
DESCRIPTION:
URL:https://rhodesparkschool.net/event/school-concert-at-government-complex-theatre-3/
END:VEVENT
BEGIN:VEVENT
DTSTART;TZID=Africa/Harare:20260330T070000
DTEND;TZID=Africa/Harare:20260330T160000
DTSTAMP:20260423T232913
CREATED:20260115T123809Z
LAST-MODIFIED:20260115T123809Z
UID:7577-1774854000-1774886400@rhodesparkschool.net
SUMMARY:Start of End of Term Examinations for Grade 7 students
DESCRIPTION:
URL:https://rhodesparkschool.net/event/start-of-end-of-term-examinations-for-grade-7-students-3/
END:VEVENT
BEGIN:VEVENT
DTSTART;TZID=Africa/Harare:20260328T080000
DTEND;TZID=Africa/Harare:20260328T170000
DTSTAMP:20260423T232913
CREATED:20260115T123746Z
LAST-MODIFIED:20260115T123746Z
UID:7575-1774684800-1774717200@rhodesparkschool.net
SUMMARY:ISAZ U9\, U11 & U13 Regional Netball at Martin House
DESCRIPTION:
URL:https://rhodesparkschool.net/event/isaz-u9-u11-u13-regional-netball-at-martin-house/
END:VEVENT
BEGIN:VEVENT
DTSTART;TZID=Africa/Harare:20260328T080000
DTEND;TZID=Africa/Harare:20260328T170000
DTSTAMP:20260423T232913
CREATED:20260115T123723Z
LAST-MODIFIED:20260115T123723Z
UID:7573-1774684800-1774717200@rhodesparkschool.net
SUMMARY:ISAZ U16 Girls Regional Soccer at American International School of Lusaka (AISL)
DESCRIPTION:
URL:https://rhodesparkschool.net/event/isaz-u16-girls-regional-soccer-at-american-international-school-of-lusaka-aisl/
END:VEVENT
BEGIN:VEVENT
DTSTART;TZID=Africa/Harare:20260328T080000
DTEND;TZID=Africa/Harare:20260328T170000
DTSTAMP:20260423T232913
CREATED:20260115T123636Z
LAST-MODIFIED:20260115T123636Z
UID:7571-1774684800-1774717200@rhodesparkschool.net
SUMMARY:ISAZ U16 Boys Regional Soccer Playoffs at Baobab College
DESCRIPTION:
URL:https://rhodesparkschool.net/event/isaz-u16-boys-regional-soccer-playoffs-at-baobab-college/
END:VEVENT
BEGIN:VEVENT
DTSTART;TZID=Africa/Harare:20260327T080000
DTEND;TZID=Africa/Harare:20260327T170000
DTSTAMP:20260423T232913
CREATED:20260115T123559Z
LAST-MODIFIED:20260115T123559Z
UID:7569-1774598400-1774630800@rhodesparkschool.net
SUMMARY:ISAZ U16 Regional Netball A at Baobab College
DESCRIPTION:
URL:https://rhodesparkschool.net/event/isaz-u16-regional-netball-a-at-baobab-college-2/
END:VEVENT
BEGIN:VEVENT
DTSTART;TZID=Africa/Harare:20260327T080000
DTEND;TZID=Africa/Harare:20260327T170000
DTSTAMP:20260423T232913
CREATED:20260115T123446Z
LAST-MODIFIED:20260115T123446Z
UID:7567-1774598400-1774630800@rhodesparkschool.net
SUMMARY:Inter-House Swimming Relay Gala ( Primary and Secondary)
DESCRIPTION:
URL:https://rhodesparkschool.net/event/inter-house-swimming-relay-gala-primary-and-secondary-2/
END:VEVENT
BEGIN:VEVENT
DTSTART;TZID=Africa/Harare:20260323T080000
DTEND;TZID=Africa/Harare:20260323T170000
DTSTAMP:20260423T232913
CREATED:20260115T123417Z
LAST-MODIFIED:20260115T123417Z
UID:7565-1774252800-1774285200@rhodesparkschool.net
SUMMARY:Start of Continuous Assessment for Non-Examination classes
DESCRIPTION:
URL:https://rhodesparkschool.net/event/start-of-continuous-assessment-for-non-examination-classes/
END:VEVENT
BEGIN:VEVENT
DTSTART;TZID=Africa/Harare:20260323T080000
DTEND;TZID=Africa/Harare:20260323T170000
DTSTAMP:20260423T232913
CREATED:20260115T123346Z
LAST-MODIFIED:20260115T123346Z
UID:7563-1774252800-1774285200@rhodesparkschool.net
SUMMARY:Start of  Grade 12 End-of-Term Examinations
DESCRIPTION:
URL:https://rhodesparkschool.net/event/start-of-grade-12-end-of-term-examinations/
END:VEVENT
BEGIN:VEVENT
DTSTART;TZID=Africa/Harare:20260321T080000
DTEND;TZID=Africa/Harare:20260321T170000
DTSTAMP:20260423T232913
CREATED:20260115T123244Z
LAST-MODIFIED:20260115T123244Z
UID:7561-1774080000-1774112400@rhodesparkschool.net
SUMMARY:ISAZ U16 Regional Netball B at Lusaka International Community School (LICS)
DESCRIPTION:
URL:https://rhodesparkschool.net/event/isaz-u16-regional-netball-b-at-lusaka-international-community-school-lics/
END:VEVENT
BEGIN:VEVENT
DTSTART;TZID=Africa/Harare:20260321T080000
DTEND;TZID=Africa/Harare:20260321T170000
DTSTAMP:20260423T232913
CREATED:20260115T123215Z
LAST-MODIFIED:20260115T123215Z
UID:7559-1774080000-1774112400@rhodesparkschool.net
SUMMARY:ISAZ U16 Regional Netball A at Baobab College
DESCRIPTION:
URL:https://rhodesparkschool.net/event/isaz-u16-regional-netball-a-at-baobab-college/
END:VEVENT
BEGIN:VEVENT
DTSTART;TZID=Africa/Harare:20260321T080000
DTEND;TZID=Africa/Harare:20260321T170000
DTSTAMP:20260423T232913
CREATED:20260115T123133Z
LAST-MODIFIED:20260115T123133Z
UID:7556-1774080000-1774112400@rhodesparkschool.net
SUMMARY:ISAZ U13 Soccer Boys and Girls A at International School of Lusaka (ISL)
DESCRIPTION:
URL:https://rhodesparkschool.net/event/isaz-u13-soccer-boys-and-girls-a-at-international-school-of-lusaka-isl/
END:VEVENT
BEGIN:VEVENT
DTSTART;TZID=Africa/Harare:20260321T080000
DTEND;TZID=Africa/Harare:20260321T170000
DTSTAMP:20260423T232913
CREATED:20260115T123100Z
LAST-MODIFIED:20260115T123100Z
UID:7555-1774080000-1774112400@rhodesparkschool.net
SUMMARY:ISAZ U13 Soccer Boys and Girls B at Rhodes Park School
DESCRIPTION:
URL:https://rhodesparkschool.net/event/isaz-u13-soccer-boys-and-girls-b-at-rhodes-park-school/
END:VEVENT
BEGIN:VEVENT
DTSTART;TZID=Africa/Harare:20260321T080000
DTEND;TZID=Africa/Harare:20260321T170000
DTSTAMP:20260423T232913
CREATED:20260115T122956Z
LAST-MODIFIED:20260115T122956Z
UID:7553-1774080000-1774112400@rhodesparkschool.net
SUMMARY:ISAZ U19 Boys and Girls Tennis at American International School of Lusaka (AISL)
DESCRIPTION:
URL:https://rhodesparkschool.net/event/isaz-u19-boys-and-girls-tennis-at-american-international-school-of-lusaka-aisl/
END:VEVENT
BEGIN:VEVENT
DTSTART;TZID=Africa/Harare:20260320T080000
DTEND;TZID=Africa/Harare:20260320T170000
DTSTAMP:20260423T232913
CREATED:20260115T122930Z
LAST-MODIFIED:20260115T122930Z
UID:7549-1773993600-1774026000@rhodesparkschool.net
SUMMARY:ISAZ U13 Boys and Girls Tennis at American International School of Lusaka (AISL)
DESCRIPTION:
URL:https://rhodesparkschool.net/event/isaz-u13-boys-and-girls-tennis-at-american-international-school-of-lusaka-aisl/
END:VEVENT
BEGIN:VEVENT
DTSTART;TZID=Africa/Harare:20260320T080000
DTEND;TZID=Africa/Harare:20260320T170000
DTSTAMP:20260423T232913
CREATED:20260115T122904Z
LAST-MODIFIED:20260115T122904Z
UID:7550-1773993600-1774026000@rhodesparkschool.net
SUMMARY:End of Extra-Curricular Activities
DESCRIPTION:
URL:https://rhodesparkschool.net/event/end-of-extra-curricular-activities-14/
END:VEVENT
BEGIN:VEVENT
DTSTART;TZID=Africa/Harare:20260320T080000
DTEND;TZID=Africa/Harare:20260320T170000
DTSTAMP:20260423T232913
CREATED:20260115T122808Z
LAST-MODIFIED:20260115T122808Z
UID:7547-1773993600-1774026000@rhodesparkschool.net
SUMMARY:Second Educational Tour for Grade 12 students
DESCRIPTION:
URL:https://rhodesparkschool.net/event/second-educational-tour-for-grade-12-students-6/
END:VEVENT
BEGIN:VEVENT
DTSTART;TZID=Africa/Harare:20260320T080000
DTEND;TZID=Africa/Harare:20260320T170000
DTSTAMP:20260423T232913
CREATED:20260115T122652Z
LAST-MODIFIED:20260115T122652Z
UID:7545-1773993600-1774026000@rhodesparkschool.net
SUMMARY:Second Educational Tour for Grade 12 students
DESCRIPTION:
URL:https://rhodesparkschool.net/event/second-educational-tour-for-grade-12-students-5/
END:VEVENT
BEGIN:VEVENT
DTSTART;TZID=Africa/Harare:20260319T080000
DTEND;TZID=Africa/Harare:20260319T170000
DTSTAMP:20260423T232913
CREATED:20260115T122634Z
LAST-MODIFIED:20260115T122634Z
UID:7543-1773907200-1773939600@rhodesparkschool.net
SUMMARY:First Educational Tour for Grade 12 students
DESCRIPTION:
URL:https://rhodesparkschool.net/event/first-educational-tour-for-grade-12-students-8/
END:VEVENT
BEGIN:VEVENT
DTSTART;TZID=Africa/Harare:20260318T080000
DTEND;TZID=Africa/Harare:20260318T170000
DTSTAMP:20260423T232913
CREATED:20260115T122605Z
LAST-MODIFIED:20260115T122605Z
UID:7539-1773820800-1773853200@rhodesparkschool.net
SUMMARY:Big Sports Day (Secondary) - Inter - House Football and Netball
DESCRIPTION:
URL:https://rhodesparkschool.net/event/big-sports-day-secondary-inter-house-football-and-netball-2/
END:VEVENT
END:VCALENDAR