BEGIN:VCALENDAR
VERSION:2.0
PRODID:-//Rhodes Park School - ECPv6.15.20//NONSGML v1.0//EN
CALSCALE:GREGORIAN
METHOD:PUBLISH
X-ORIGINAL-URL:https://rhodesparkschool.net
X-WR-CALDESC:Events for Rhodes Park School
REFRESH-INTERVAL;VALUE=DURATION:PT1H
X-Robots-Tag:noindex
X-PUBLISHED-TTL:PT1H
BEGIN:VTIMEZONE
TZID:Africa/Harare
BEGIN:STANDARD
TZOFFSETFROM:+0200
TZOFFSETTO:+0200
TZNAME:CAT
DTSTART:20250101T000000
END:STANDARD
END:VTIMEZONE
BEGIN:VEVENT
DTSTART;TZID=Africa/Harare:20260422T070000
DTEND;TZID=Africa/Harare:20260428T160000
DTSTAMP:20260424T004122
CREATED:20260115T124555Z
LAST-MODIFIED:20260115T124555Z
UID:7601-1776841200-1777392000@rhodesparkschool.net
SUMMARY:Grade 7 Field Trip to Victoria Falls Region
DESCRIPTION:
URL:https://rhodesparkschool.net/event/grade-7-field-trip-to-victoria-falls-region-3/
END:VEVENT
BEGIN:VEVENT
DTSTART;TZID=Africa/Harare:20260424T070000
DTEND;TZID=Africa/Harare:20260424T160000
DTSTAMP:20260424T004122
CREATED:20260115T124622Z
LAST-MODIFIED:20260115T124622Z
UID:7603-1777014000-1777046400@rhodesparkschool.net
SUMMARY:Holiday remedial lessons and extra lessons for Examination Classes begin
DESCRIPTION:
URL:https://rhodesparkschool.net/event/holiday-remedial-lessons-and-extra-lessons-for-examination-classes-begin/
END:VEVENT
BEGIN:VEVENT
DTSTART;TZID=Africa/Harare:20260424T070000
DTEND;TZID=Africa/Harare:20260424T160000
DTSTAMP:20260424T004122
CREATED:20260115T124649Z
LAST-MODIFIED:20260115T124649Z
UID:7605-1777014000-1777046400@rhodesparkschool.net
SUMMARY:Parent Teacher Consultations for  12  classes
DESCRIPTION:
URL:https://rhodesparkschool.net/event/parent-teacher-consultations-for-12-classes/
END:VEVENT
BEGIN:VEVENT
DTSTART;TZID=Africa/Harare:20260428T070000
DTEND;TZID=Africa/Harare:20260428T160000
DTSTAMP:20260424T004122
CREATED:20260115T124733Z
LAST-MODIFIED:20260115T124733Z
UID:7607-1777359600-1777392000@rhodesparkschool.net
SUMMARY:Public Holiday – Kenneth Kaunda Day
DESCRIPTION:
URL:https://rhodesparkschool.net/event/public-holiday-kenneth-kaunda-day-2/
END:VEVENT
END:VCALENDAR