BEGIN:VCALENDAR
VERSION:2.0
PRODID:-//Rhodes Park School - ECPv6.15.20//NONSGML v1.0//EN
CALSCALE:GREGORIAN
METHOD:PUBLISH
X-WR-CALNAME:Rhodes Park School
X-ORIGINAL-URL:https://rhodesparkschool.net
X-WR-CALDESC:Events for Rhodes Park School
REFRESH-INTERVAL;VALUE=DURATION:PT1H
X-Robots-Tag:noindex
X-PUBLISHED-TTL:PT1H
BEGIN:VTIMEZONE
TZID:Africa/Harare
BEGIN:STANDARD
TZOFFSETFROM:+0200
TZOFFSETTO:+0200
TZNAME:CAT
DTSTART:20240101T000000
END:STANDARD
END:VTIMEZONE
BEGIN:VEVENT
DTSTART;TZID=Africa/Harare:20260119T080000
DTEND;TZID=Africa/Harare:20260119T170000
DTSTAMP:20260424T182900
CREATED:20260115T093242Z
LAST-MODIFIED:20260115T093242Z
UID:7398-1768809600-1768842000@rhodesparkschool.net
SUMMARY:Afternoon extra-curricular activities begin
DESCRIPTION:
URL:https://rhodesparkschool.net/event/afternoon-extra-curricular-activities-begin-7/
END:VEVENT
BEGIN:VEVENT
DTSTART;TZID=Africa/Harare:20260116T080000
DTEND;TZID=Africa/Harare:20260116T170000
DTSTAMP:20260424T182900
CREATED:20260115T093432Z
LAST-MODIFIED:20260115T093432Z
UID:7403-1768550400-1768582800@rhodesparkschool.net
SUMMARY:Head Teacher’s meeting with parents of new entrants
DESCRIPTION:
URL:https://rhodesparkschool.net/event/head-teachers-meeting-with-parents-of-new-entrants-5/
END:VEVENT
BEGIN:VEVENT
DTSTART;TZID=Africa/Harare:20260115T080000
DTEND;TZID=Africa/Harare:20260115T170000
DTSTAMP:20260424T182900
CREATED:20260115T092424Z
LAST-MODIFIED:20260115T092424Z
UID:7385-1768464000-1768496400@rhodesparkschool.net
SUMMARY:Afternoon lessons for Grade 4\, 5\,& 6 students begin
DESCRIPTION:
URL:https://rhodesparkschool.net/event/afternoon-lessons-for-grade-4-5-6-students-begin/
END:VEVENT
BEGIN:VEVENT
DTSTART;TZID=Africa/Harare:20260115T080000
DTEND;TZID=Africa/Harare:20260115T170000
DTSTAMP:20260424T182900
CREATED:20260115T092408Z
LAST-MODIFIED:20260115T092408Z
UID:7384-1768464000-1768496400@rhodesparkschool.net
SUMMARY:Academic Team’s Meeting with parents of Secondary students -Form 1
DESCRIPTION:
URL:https://rhodesparkschool.net/event/academic-teams-meeting-with-parents-of-secondary-students-form-1/
END:VEVENT
BEGIN:VEVENT
DTSTART;TZID=Africa/Harare:20260114T080000
DTEND;TZID=Africa/Harare:20260114T170000
DTSTAMP:20260424T182900
CREATED:20260115T095434Z
LAST-MODIFIED:20260115T095434Z
UID:7454-1768377600-1768410000@rhodesparkschool.net
SUMMARY:ISAZ U14\, U16 & U19 Invitational Rugby at Martin House
DESCRIPTION:
URL:https://rhodesparkschool.net/event/isaz-u14-u16-u19-invitational-rugby-at-martin-house/
END:VEVENT
BEGIN:VEVENT
DTSTART;TZID=Africa/Harare:20260114T080000
DTEND;TZID=Africa/Harare:20260114T170000
DTSTAMP:20260424T182900
CREATED:20260115T095326Z
LAST-MODIFIED:20260115T095326Z
UID:7452-1768377600-1768410000@rhodesparkschool.net
SUMMARY:ISAZ U14 Girls Soccer at Baobab College
DESCRIPTION:
URL:https://rhodesparkschool.net/event/isaz-u14-girls-soccer-at-baobab-college/
END:VEVENT
BEGIN:VEVENT
DTSTART;TZID=Africa/Harare:20260114T080000
DTEND;TZID=Africa/Harare:20260114T170000
DTSTAMP:20260424T182900
CREATED:20260115T092704Z
LAST-MODIFIED:20260115T092704Z
UID:7394-1768377600-1768410000@rhodesparkschool.net
SUMMARY:Whole School Council meeting
DESCRIPTION:
URL:https://rhodesparkschool.net/event/whole-school-council-meeting-6/
END:VEVENT
BEGIN:VEVENT
DTSTART;TZID=Africa/Harare:20260114T080000
DTEND;TZID=Africa/Harare:20260114T170000
DTSTAMP:20260424T182900
CREATED:20260115T092544Z
LAST-MODIFIED:20260115T092544Z
UID:7392-1768377600-1768410000@rhodesparkschool.net
SUMMARY:Afternoon lessons for Grade 7  & 12 begin
DESCRIPTION:
URL:https://rhodesparkschool.net/event/afternoon-lessons-for-grade-7-12-begin/
END:VEVENT
BEGIN:VEVENT
DTSTART;TZID=Africa/Harare:20260114T080000
DTEND;TZID=Africa/Harare:20260114T170000
DTSTAMP:20260424T182900
CREATED:20260115T092518Z
LAST-MODIFIED:20260115T092518Z
UID:7389-1768377600-1768410000@rhodesparkschool.net
SUMMARY:Academic Team’s Meeting with parents of Reception to Grade 3 students
DESCRIPTION:
URL:https://rhodesparkschool.net/event/academic-teams-meeting-with-parents-of-reception-to-grade-3-students/
END:VEVENT
BEGIN:VEVENT
DTSTART;TZID=Africa/Harare:20260114T080000
DTEND;TZID=Africa/Harare:20260114T170000
DTSTAMP:20260424T182900
CREATED:20260115T092453Z
LAST-MODIFIED:20260115T092453Z
UID:7388-1768377600-1768410000@rhodesparkschool.net
SUMMARY:Academic Team’s Meeting with parents of Grade 4\, 5\, 6 & 7 students
DESCRIPTION:
URL:https://rhodesparkschool.net/event/academic-teams-meeting-with-parents-of-grade-4-5-6-7-students/
END:VEVENT
BEGIN:VEVENT
DTSTART;TZID=Africa/Harare:20260113T080000
DTEND;TZID=Africa/Harare:20260113T170000
DTSTAMP:20260424T182900
CREATED:20260115T092727Z
LAST-MODIFIED:20260115T092727Z
UID:7396-1768291200-1768323600@rhodesparkschool.net
SUMMARY:Teacher Council Meeting
DESCRIPTION:
URL:https://rhodesparkschool.net/event/teacher-council-meeting/
END:VEVENT
BEGIN:VEVENT
DTSTART;TZID=Africa/Harare:20260113T080000
DTEND;TZID=Africa/Harare:20260113T170000
DTSTAMP:20260424T182900
CREATED:20260105T122620Z
LAST-MODIFIED:20260105T132730Z
UID:7378-1768291200-1768323600@rhodesparkschool.net
SUMMARY:School Opening Day - Term 1
DESCRIPTION:
URL:https://rhodesparkschool.net/event/school-opening-day-term-1/
END:VEVENT
BEGIN:VEVENT
DTSTART;VALUE=DATE:20251225
DTEND;VALUE=DATE:20251226
DTSTAMP:20260424T182900
CREATED:20250910T104416Z
LAST-MODIFIED:20250910T104416Z
UID:7153-1766620800-1766707199@rhodesparkschool.net
SUMMARY:Public Holiday - Christmas Day
DESCRIPTION:
URL:https://rhodesparkschool.net/event/public-holiday-christmas-day-4/
CATEGORIES:Public Holidays
END:VEVENT
BEGIN:VEVENT
DTSTART;TZID=Africa/Harare:20251205T080000
DTEND;TZID=Africa/Harare:20251205T170000
DTSTAMP:20260424T182900
CREATED:20250910T104256Z
LAST-MODIFIED:20250922T085134Z
UID:7151-1764921600-1764954000@rhodesparkschool.net
SUMMARY:SCHOOL CLOSES FOR DECEMBER VACATION
DESCRIPTION:
URL:https://rhodesparkschool.net/event/school-closes-for-december-vacation-7/
END:VEVENT
BEGIN:VEVENT
DTSTART;TZID=Africa/Harare:20251205T080000
DTEND;TZID=Africa/Harare:20251205T170000
DTSTAMP:20260424T182900
CREATED:20250910T104126Z
LAST-MODIFIED:20250910T104126Z
UID:7149-1764921600-1764954000@rhodesparkschool.net
SUMMARY:Parent Teacher Consultations for School Reports - Non-Examination Classes
DESCRIPTION:
URL:https://rhodesparkschool.net/event/parent-teacher-consultations-for-school-reports-non-examination-classes-3/
END:VEVENT
BEGIN:VEVENT
DTSTART;TZID=Africa/Harare:20251127T080000
DTEND;TZID=Africa/Harare:20251127T170000
DTSTAMP:20260424T182900
CREATED:20250910T103926Z
LAST-MODIFIED:20250910T103926Z
UID:7143-1764230400-1764262800@rhodesparkschool.net
SUMMARY:End of 2025 Junior Secondary School Leaving Examination
DESCRIPTION:
URL:https://rhodesparkschool.net/event/end-of-2025-junior-secondary-school-leaving-examination/
END:VEVENT
BEGIN:VEVENT
DTSTART;TZID=Africa/Harare:20251121T080000
DTEND;TZID=Africa/Harare:20251121T170000
DTSTAMP:20260424T182900
CREATED:20250910T103853Z
LAST-MODIFIED:20250910T103853Z
UID:7141-1763712000-1763744400@rhodesparkschool.net
SUMMARY:Transitional Examinations for the whole school end
DESCRIPTION:
URL:https://rhodesparkschool.net/event/transitional-examinations-for-the-whole-school-end/
END:VEVENT
BEGIN:VEVENT
DTSTART;TZID=Africa/Harare:20251120T080000
DTEND;TZID=Africa/Harare:20251120T170000
DTSTAMP:20260424T182900
CREATED:20250910T103750Z
LAST-MODIFIED:20250910T103750Z
UID:7139-1763625600-1763658000@rhodesparkschool.net
SUMMARY:Rehearsal for the Christmas Carol Service - Reception to Grade 2
DESCRIPTION:
URL:https://rhodesparkschool.net/event/rehearsal-for-the-christmas-carol-service-reception-to-grade-2/
END:VEVENT
BEGIN:VEVENT
DTSTART;TZID=Africa/Harare:20251120T080000
DTEND;TZID=Africa/Harare:20251120T170000
DTSTAMP:20260424T182900
CREATED:20250910T103643Z
LAST-MODIFIED:20250910T103643Z
UID:7137-1763625600-1763658000@rhodesparkschool.net
SUMMARY:Start of the 2025 Grade 9 JSSLE Examination
DESCRIPTION:
URL:https://rhodesparkschool.net/event/start-of-the-2025-grade-9-jssle-examination/
END:VEVENT
BEGIN:VEVENT
DTSTART;TZID=Africa/Harare:20251118T080000
DTEND;TZID=Africa/Harare:20251118T170000
DTSTAMP:20260424T182900
CREATED:20250910T103607Z
LAST-MODIFIED:20250910T103607Z
UID:7135-1763452800-1763485200@rhodesparkschool.net
SUMMARY:End of Grade 12 ECZ Examination
DESCRIPTION:
URL:https://rhodesparkschool.net/event/end-of-grade-12-ecz-examination-3/
END:VEVENT
BEGIN:VEVENT
DTSTART;TZID=Africa/Harare:20251117T080000
DTEND;TZID=Africa/Harare:20251117T170000
DTSTAMP:20260424T182900
CREATED:20250910T103506Z
LAST-MODIFIED:20250910T103506Z
UID:7133-1763366400-1763398800@rhodesparkschool.net
SUMMARY:Start of Transitional Examinations for the Primary Section
DESCRIPTION:
URL:https://rhodesparkschool.net/event/start-of-transitional-examinations-for-the-primary-section/
END:VEVENT
BEGIN:VEVENT
DTSTART;TZID=Africa/Harare:20251115T080000
DTEND;TZID=Africa/Harare:20251115T170000
DTSTAMP:20260424T182900
CREATED:20250910T103408Z
LAST-MODIFIED:20250910T103408Z
UID:7131-1763193600-1763226000@rhodesparkschool.net
SUMMARY:ISAZ U16 Volleyball Championship at AISL
DESCRIPTION:
URL:https://rhodesparkschool.net/event/isaz-u16-volleyball-championship-at-aisl/
END:VEVENT
BEGIN:VEVENT
DTSTART;TZID=Africa/Harare:20251115T080000
DTEND;TZID=Africa/Harare:20251115T170000
DTSTAMP:20260424T182900
CREATED:20250910T103327Z
LAST-MODIFIED:20250910T103327Z
UID:7129-1763193600-1763226000@rhodesparkschool.net
SUMMARY:ISAZ U13 Basketball Championship Division A at ISL\, Division B TBC
DESCRIPTION:
URL:https://rhodesparkschool.net/event/isaz-u13-basketball-championship-division-a-at-isl-division-b-tbc/
END:VEVENT
BEGIN:VEVENT
DTSTART;TZID=Africa/Harare:20251114T140000
DTEND;TZID=Africa/Harare:20251114T170000
DTSTAMP:20260424T182900
CREATED:20250910T103133Z
LAST-MODIFIED:20250910T103133Z
UID:7125-1763128800-1763139600@rhodesparkschool.net
SUMMARY:Open Afternoon
DESCRIPTION:
URL:https://rhodesparkschool.net/event/open-afternoon-3/
END:VEVENT
BEGIN:VEVENT
DTSTART;TZID=Africa/Harare:20251114T080000
DTEND;TZID=Africa/Harare:20251114T170000
DTSTAMP:20260424T182900
CREATED:20250910T103251Z
LAST-MODIFIED:20250910T103251Z
UID:7127-1763107200-1763139600@rhodesparkschool.net
SUMMARY:ISAZ Junior & Senior Relay Swimming Gala at AISL
DESCRIPTION:
URL:https://rhodesparkschool.net/event/isaz-junior-senior-relay-swimming-gala-at-aisl/
END:VEVENT
BEGIN:VEVENT
DTSTART;TZID=Africa/Harare:20251111T080000
DTEND;TZID=Africa/Harare:20251111T170000
DTSTAMP:20260424T182900
CREATED:20250910T103051Z
LAST-MODIFIED:20250910T103051Z
UID:7123-1762848000-1762880400@rhodesparkschool.net
SUMMARY:Folotiya Memorial Scholarship Awards
DESCRIPTION:
URL:https://rhodesparkschool.net/event/folotiya-memorial-scholarship-awards-3/
END:VEVENT
BEGIN:VEVENT
DTSTART;TZID=Africa/Harare:20251110T080000
DTEND;TZID=Africa/Harare:20251110T170000
DTSTAMP:20260424T182900
CREATED:20250910T103006Z
LAST-MODIFIED:20250910T103006Z
UID:7121-1762761600-1762794000@rhodesparkschool.net
SUMMARY:Transitional Examinations for the Secondary Section begin
DESCRIPTION:
URL:https://rhodesparkschool.net/event/transitional-examinations-for-the-secondary-section-begin/
END:VEVENT
BEGIN:VEVENT
DTSTART;TZID=Africa/Harare:20251108T080000
DTEND;TZID=Africa/Harare:20251108T170000
DTSTAMP:20260424T182900
CREATED:20250910T102932Z
LAST-MODIFIED:20250910T102932Z
UID:7119-1762588800-1762621200@rhodesparkschool.net
SUMMARY:Folotiya Memorial Scholarship Examination for External Candidates
DESCRIPTION:
URL:https://rhodesparkschool.net/event/folotiya-memorial-scholarship-examination-for-external-candidates-3/
END:VEVENT
BEGIN:VEVENT
DTSTART;TZID=Africa/Harare:20251108T080000
DTEND;TZID=Africa/Harare:20251108T170000
DTSTAMP:20260424T182900
CREATED:20250910T102845Z
LAST-MODIFIED:20250910T102845Z
UID:7117-1762588800-1762621200@rhodesparkschool.net
SUMMARY:ISAZ U11 Basketball Championship Division A at LICS\, Division B at RPS
DESCRIPTION:
URL:https://rhodesparkschool.net/event/isaz-u11-basketball-championship-division-a-at-lics-division-b-at-rps/
END:VEVENT
BEGIN:VEVENT
DTSTART;TZID=Africa/Harare:20251108T080000
DTEND;TZID=Africa/Harare:20251108T170000
DTSTAMP:20260424T182900
CREATED:20250910T102807Z
LAST-MODIFIED:20250910T102807Z
UID:7115-1762588800-1762621200@rhodesparkschool.net
SUMMARY:ISAZ U16 Basketball Championship Division A at ISL\, Division B TBC
DESCRIPTION:
URL:https://rhodesparkschool.net/event/isaz-u16-basketball-championship-division-a-at-isl-division-b-tbc/
END:VEVENT
END:VCALENDAR