BEGIN:VCALENDAR
VERSION:2.0
PRODID:-//Rhodes Park School - ECPv6.15.20//NONSGML v1.0//EN
CALSCALE:GREGORIAN
METHOD:PUBLISH
X-WR-CALNAME:Rhodes Park School
X-ORIGINAL-URL:https://rhodesparkschool.net
X-WR-CALDESC:Events for Rhodes Park School
REFRESH-INTERVAL;VALUE=DURATION:PT1H
X-Robots-Tag:noindex
X-PUBLISHED-TTL:PT1H
BEGIN:VTIMEZONE
TZID:Africa/Harare
BEGIN:STANDARD
TZOFFSETFROM:+0200
TZOFFSETTO:+0200
TZNAME:CAT
DTSTART:20240101T000000
END:STANDARD
END:VTIMEZONE
BEGIN:VEVENT
DTSTART;TZID=Africa/Harare:20251114T140000
DTEND;TZID=Africa/Harare:20251114T170000
DTSTAMP:20260424T105111
CREATED:20250910T103133Z
LAST-MODIFIED:20250910T103133Z
UID:7125-1763128800-1763139600@rhodesparkschool.net
SUMMARY:Open Afternoon
DESCRIPTION:
URL:https://rhodesparkschool.net/event/open-afternoon-3/
END:VEVENT
BEGIN:VEVENT
DTSTART;TZID=Africa/Harare:20251114T080000
DTEND;TZID=Africa/Harare:20251114T170000
DTSTAMP:20260424T105111
CREATED:20250910T103251Z
LAST-MODIFIED:20250910T103251Z
UID:7127-1763107200-1763139600@rhodesparkschool.net
SUMMARY:ISAZ Junior & Senior Relay Swimming Gala at AISL
DESCRIPTION:
URL:https://rhodesparkschool.net/event/isaz-junior-senior-relay-swimming-gala-at-aisl/
END:VEVENT
BEGIN:VEVENT
DTSTART;TZID=Africa/Harare:20251111T080000
DTEND;TZID=Africa/Harare:20251111T170000
DTSTAMP:20260424T105111
CREATED:20250910T103051Z
LAST-MODIFIED:20250910T103051Z
UID:7123-1762848000-1762880400@rhodesparkschool.net
SUMMARY:Folotiya Memorial Scholarship Awards
DESCRIPTION:
URL:https://rhodesparkschool.net/event/folotiya-memorial-scholarship-awards-3/
END:VEVENT
BEGIN:VEVENT
DTSTART;TZID=Africa/Harare:20251110T080000
DTEND;TZID=Africa/Harare:20251110T170000
DTSTAMP:20260424T105111
CREATED:20250910T103006Z
LAST-MODIFIED:20250910T103006Z
UID:7121-1762761600-1762794000@rhodesparkschool.net
SUMMARY:Transitional Examinations for the Secondary Section begin
DESCRIPTION:
URL:https://rhodesparkschool.net/event/transitional-examinations-for-the-secondary-section-begin/
END:VEVENT
BEGIN:VEVENT
DTSTART;TZID=Africa/Harare:20251108T080000
DTEND;TZID=Africa/Harare:20251108T170000
DTSTAMP:20260424T105111
CREATED:20250910T102932Z
LAST-MODIFIED:20250910T102932Z
UID:7119-1762588800-1762621200@rhodesparkschool.net
SUMMARY:Folotiya Memorial Scholarship Examination for External Candidates
DESCRIPTION:
URL:https://rhodesparkschool.net/event/folotiya-memorial-scholarship-examination-for-external-candidates-3/
END:VEVENT
BEGIN:VEVENT
DTSTART;TZID=Africa/Harare:20251108T080000
DTEND;TZID=Africa/Harare:20251108T170000
DTSTAMP:20260424T105111
CREATED:20250910T102845Z
LAST-MODIFIED:20250910T102845Z
UID:7117-1762588800-1762621200@rhodesparkschool.net
SUMMARY:ISAZ U11 Basketball Championship Division A at LICS\, Division B at RPS
DESCRIPTION:
URL:https://rhodesparkschool.net/event/isaz-u11-basketball-championship-division-a-at-lics-division-b-at-rps/
END:VEVENT
BEGIN:VEVENT
DTSTART;TZID=Africa/Harare:20251108T080000
DTEND;TZID=Africa/Harare:20251108T170000
DTSTAMP:20260424T105111
CREATED:20250910T102807Z
LAST-MODIFIED:20250910T102807Z
UID:7115-1762588800-1762621200@rhodesparkschool.net
SUMMARY:ISAZ U16 Basketball Championship Division A at ISL\, Division B TBC
DESCRIPTION:
URL:https://rhodesparkschool.net/event/isaz-u16-basketball-championship-division-a-at-isl-division-b-tbc/
END:VEVENT
BEGIN:VEVENT
DTSTART;TZID=Africa/Harare:20251107T080000
DTEND;TZID=Africa/Harare:20251107T170000
DTSTAMP:20260424T105111
CREATED:20250910T102731Z
LAST-MODIFIED:20250910T102731Z
UID:7113-1762502400-1762534800@rhodesparkschool.net
SUMMARY:ISAZ Junior Swimming Gala Round 2; Div 3 at Rhodes Park School
DESCRIPTION:
URL:https://rhodesparkschool.net/event/isaz-junior-swimming-gala-round-2-div-3-at-rhodes-park-school/
END:VEVENT
BEGIN:VEVENT
DTSTART;TZID=Africa/Harare:20251107T080000
DTEND;TZID=Africa/Harare:20251107T170000
DTSTAMP:20260424T105111
CREATED:20250910T102202Z
LAST-MODIFIED:20250910T102259Z
UID:7111-1762502400-1762534800@rhodesparkschool.net
SUMMARY:ISAZ Junior Swimming Gala Round 2; Div 1 at Baobab College\, Div 2 at Italian
DESCRIPTION:
URL:https://rhodesparkschool.net/event/isaz-junior-swimming-gala-round-2-div-1-at-baobab-college-div-2-at-italian/
END:VEVENT
BEGIN:VEVENT
DTSTART;TZID=Africa/Harare:20251107T080000
DTEND;TZID=Africa/Harare:20251107T170000
DTSTAMP:20260424T105111
CREATED:20250910T102102Z
LAST-MODIFIED:20250910T102102Z
UID:7109-1762502400-1762534800@rhodesparkschool.net
SUMMARY:Deadline for printing of Transitional Examinations
DESCRIPTION:
URL:https://rhodesparkschool.net/event/deadline-for-printing-of-transitional-examinations/
END:VEVENT
BEGIN:VEVENT
DTSTART;TZID=Africa/Harare:20251107T080000
DTEND;TZID=Africa/Harare:20251107T170000
DTSTAMP:20260424T105111
CREATED:20250910T102028Z
LAST-MODIFIED:20250910T102028Z
UID:7107-1762502400-1762534800@rhodesparkschool.net
SUMMARY:End of extra-curricular activities
DESCRIPTION:
URL:https://rhodesparkschool.net/event/end-of-extra-curricular-activities-13/
END:VEVENT
BEGIN:VEVENT
DTSTART;TZID=Africa/Harare:20251105T080000
DTEND;TZID=Africa/Harare:20251105T170000
DTSTAMP:20260424T105111
CREATED:20250910T101933Z
LAST-MODIFIED:20250910T101933Z
UID:7105-1762329600-1762362000@rhodesparkschool.net
SUMMARY:ISAZ Sports teachers meeting at the Italian School
DESCRIPTION:
URL:https://rhodesparkschool.net/event/isaz-sports-teachers-meeting-at-the-italian-school/
END:VEVENT
BEGIN:VEVENT
DTSTART;TZID=Africa/Harare:20251103T080000
DTEND;TZID=Africa/Harare:20251103T170000
DTSTAMP:20260424T105111
CREATED:20250910T101847Z
LAST-MODIFIED:20250910T101847Z
UID:7103-1762156800-1762189200@rhodesparkschool.net
SUMMARY:Start of Grade 12 ECZ Examination
DESCRIPTION:
URL:https://rhodesparkschool.net/event/start-of-grade-12-ecz-examination-3/
END:VEVENT
BEGIN:VEVENT
DTSTART;TZID=Africa/Harare:20251103T080000
DTEND;TZID=Africa/Harare:20251103T170000
DTSTAMP:20260424T105111
CREATED:20250910T101820Z
LAST-MODIFIED:20250910T101820Z
UID:7101-1762156800-1762189200@rhodesparkschool.net
SUMMARY:Submission of Final Lists of Invigilators – End-of-Year Examinations
DESCRIPTION:
URL:https://rhodesparkschool.net/event/submission-of-final-lists-of-invigilators-end-of-year-examinations/
END:VEVENT
BEGIN:VEVENT
DTSTART;TZID=Africa/Harare:20251101T080000
DTEND;TZID=Africa/Harare:20251101T170000
DTSTAMP:20260424T105111
CREATED:20250910T101731Z
LAST-MODIFIED:20250910T101731Z
UID:7099-1761984000-1762016400@rhodesparkschool.net
SUMMARY:ISAZ U13 Volleyball Regionals Division A at AISL\, Division B at Maarif
DESCRIPTION:
URL:https://rhodesparkschool.net/event/isaz-u13-volleyball-regionals-division-a-at-aisl-division-b-at-maarif/
END:VEVENT
BEGIN:VEVENT
DTSTART;TZID=Africa/Harare:20251101T080000
DTEND;TZID=Africa/Harare:20251101T170000
DTSTAMP:20260424T105111
CREATED:20250910T101700Z
LAST-MODIFIED:20250910T101700Z
UID:7097-1761984000-1762016400@rhodesparkschool.net
SUMMARY:ISAZ U11 Volleyball Regionals at Rhodes Park
DESCRIPTION:
URL:https://rhodesparkschool.net/event/isaz-u11-volleyball-regionals-at-rhodes-park/
END:VEVENT
BEGIN:VEVENT
DTSTART;TZID=Africa/Harare:20251031T140000
DTEND;TZID=Africa/Harare:20251031T170000
DTSTAMP:20260424T105111
CREATED:20250910T101614Z
LAST-MODIFIED:20250910T101614Z
UID:7095-1761919200-1761930000@rhodesparkschool.net
SUMMARY:Open afternoon
DESCRIPTION:
URL:https://rhodesparkschool.net/event/open-afternoon-2/
END:VEVENT
BEGIN:VEVENT
DTSTART;TZID=Africa/Harare:20251031T080000
DTEND;TZID=Africa/Harare:20251031T170000
DTSTAMP:20260424T105111
CREATED:20250910T101520Z
LAST-MODIFIED:20250910T101520Z
UID:7093-1761897600-1761930000@rhodesparkschool.net
SUMMARY:ISAZ U14 - U19 Senior Swimming Gala Round 2 at Baobab
DESCRIPTION:
URL:https://rhodesparkschool.net/event/isaz-u14-u19-senior-swimming-gala-round-2-at-baobab/
END:VEVENT
BEGIN:VEVENT
DTSTART;TZID=Africa/Harare:20251030T080000
DTEND;TZID=Africa/Harare:20251030T170000
DTSTAMP:20260424T105111
CREATED:20250910T101415Z
LAST-MODIFIED:20250910T101415Z
UID:7091-1761811200-1761843600@rhodesparkschool.net
SUMMARY:PTA Civilian Day
DESCRIPTION:
URL:https://rhodesparkschool.net/event/pta-civilian-day-14/
END:VEVENT
BEGIN:VEVENT
DTSTART;TZID=Africa/Harare:20251027T080000
DTEND;TZID=Africa/Harare:20251027T170000
DTSTAMP:20260424T105111
CREATED:20250910T101305Z
LAST-MODIFIED:20250910T101305Z
UID:7089-1761552000-1761584400@rhodesparkschool.net
SUMMARY:Continuous Assessment 2
DESCRIPTION:
URL:https://rhodesparkschool.net/event/continuous-assessment-2-7/
END:VEVENT
BEGIN:VEVENT
DTSTART;TZID=Africa/Harare:20251027T080000
DTEND;TZID=Africa/Harare:20251027T170000
DTSTAMP:20260424T105111
CREATED:20250910T100752Z
LAST-MODIFIED:20250910T100752Z
UID:7086-1761552000-1761584400@rhodesparkschool.net
SUMMARY:Pupils and Teachers report back to school after Mid-Term Break.
DESCRIPTION:
URL:https://rhodesparkschool.net/event/pupils-and-teachers-report-back-to-school-after-mid-term-break/
END:VEVENT
BEGIN:VEVENT
DTSTART;TZID=Africa/Harare:20251027T080000
DTEND;TZID=Africa/Harare:20251027T170000
DTSTAMP:20260424T105111
CREATED:20250910T100704Z
LAST-MODIFIED:20250910T100704Z
UID:7084-1761552000-1761584400@rhodesparkschool.net
SUMMARY:Start of Grade 7 Composite Examination
DESCRIPTION:
URL:https://rhodesparkschool.net/event/start-of-grade-7-composite-examination-4/
END:VEVENT
BEGIN:VEVENT
DTSTART;TZID=Africa/Harare:20251024T070000
DTEND;TZID=Africa/Harare:20251024T160000
DTSTAMP:20260424T105111
CREATED:20250910T100608Z
LAST-MODIFIED:20250910T100608Z
UID:7082-1761289200-1761321600@rhodesparkschool.net
SUMMARY:Public Holiday – Zambian Independence Day
DESCRIPTION:
URL:https://rhodesparkschool.net/event/public-holiday-zambian-independence-day-4/
CATEGORIES:Public Holidays
END:VEVENT
BEGIN:VEVENT
DTSTART;TZID=Africa/Harare:20251018T070000
DTEND;TZID=Africa/Harare:20251024T160000
DTSTAMP:20260424T105111
CREATED:20250910T100515Z
LAST-MODIFIED:20250910T100515Z
UID:7080-1760770800-1761321600@rhodesparkschool.net
SUMMARY:Girl Guides and Scouts Trip to Dar es Salaam\, Tanzania
DESCRIPTION:
URL:https://rhodesparkschool.net/event/girl-guides-and-scouts-trip-to-dar-es-salaam-tanzania/
END:VEVENT
BEGIN:VEVENT
DTSTART;VALUE=DATE:20251017
DTEND;VALUE=DATE:20251019
DTSTAMP:20260424T105111
CREATED:20250910T100359Z
LAST-MODIFIED:20250910T100359Z
UID:7078-1760742000-1760828399@rhodesparkschool.net
SUMMARY:Public Holiday - National Prayer Day
DESCRIPTION:
URL:https://rhodesparkschool.net/event/public-holiday-national-prayer-day-4/
CATEGORIES:Public Holidays
END:VEVENT
BEGIN:VEVENT
DTSTART;TZID=Africa/Harare:20251017T070000
DTEND;TZID=Africa/Harare:20251017T160000
DTSTAMP:20260424T105111
CREATED:20250910T095944Z
LAST-MODIFIED:20250910T095944Z
UID:7076-1760684400-1760716800@rhodesparkschool.net
SUMMARY:Beginning of Mid-term Break after knocking off
DESCRIPTION:
URL:https://rhodesparkschool.net/event/beginning-of-mid-term-break-after-knocking-off/
END:VEVENT
BEGIN:VEVENT
DTSTART;TZID=Africa/Harare:20251017T070000
DTEND;TZID=Africa/Harare:20251017T160000
DTSTAMP:20260424T105111
CREATED:20250910T095902Z
LAST-MODIFIED:20250910T095902Z
UID:7074-1760684400-1760716800@rhodesparkschool.net
SUMMARY:PTA Cultural Evening
DESCRIPTION:
URL:https://rhodesparkschool.net/event/pta-cultural-evening-3/
END:VEVENT
BEGIN:VEVENT
DTSTART;TZID=Africa/Harare:20251016T070000
DTEND;TZID=Africa/Harare:20251016T160000
DTSTAMP:20260424T105111
CREATED:20250910T095828Z
LAST-MODIFIED:20250910T095828Z
UID:7072-1760598000-1760630400@rhodesparkschool.net
SUMMARY:Big Sports Day ( Primary) – Inter-House Basketball\, Volleyball\, Chess and Water Polo
DESCRIPTION:
URL:https://rhodesparkschool.net/event/big-sports-day-primary-inter-house-basketball-volleyball-chess-and-water-polo-2/
END:VEVENT
BEGIN:VEVENT
DTSTART;TZID=Africa/Harare:20251015T070000
DTEND;TZID=Africa/Harare:20251015T160000
DTSTAMP:20260424T105111
CREATED:20250910T095656Z
LAST-MODIFIED:20250910T095656Z
UID:7070-1760511600-1760544000@rhodesparkschool.net
SUMMARY:Big Sports Day (Secondary) – Inter-House Basketball\, Volleyball\, Chess & Water Polo
DESCRIPTION:
URL:https://rhodesparkschool.net/event/big-sports-day-secondary-inter-house-basketball-volleyball-chess-water-polo/
END:VEVENT
BEGIN:VEVENT
DTSTART;TZID=Africa/Harare:20251014T070000
DTEND;TZID=Africa/Harare:20251014T160000
DTSTAMP:20260424T105111
CREATED:20250910T095613Z
LAST-MODIFIED:20250910T095613Z
UID:7068-1760425200-1760457600@rhodesparkschool.net
SUMMARY:Big Sports Day (Primary) – Inter-House Basketball\, Volleyball\, Chess and Water Polo
DESCRIPTION:
URL:https://rhodesparkschool.net/event/big-sports-day-primary-inter-house-basketball-volleyball-chess-and-water-polo/
END:VEVENT
END:VCALENDAR